BEGIN:VCALENDAR
VERSION:2.0
PRODID:-//wp-events-plugin.com//5.99912//EN
TZID:Europe/Berlin
X-WR-TIMEZONE:Europe/Berlin
BEGIN:VEVENT
UID:0-820@crailsheim.albverein.eu
DTSTART;TZID=Europe/Berlin:20260512T110000
DTEND;TZID=Europe/Berlin:20260512T170000
DTSTAMP:20260420T091814Z
URL:https://crailsheim.albverein.eu/events/frauenwandern-ins-steinbachtal-
 bei-rothenburg/
SUMMARY:Frauenwandern: Ins Steinbachtal bei Rothenburg
DESCRIPTION:Treffpunkt: 11 Uhr am Stadion Parkplatz\nca.10 Kilometer und et
 wa 3 Stunden und 30 Minuten Wanderzeit.\nZu Fragen geben wir gerne Auskunf
 t:\nJohanna Vogler  Telefon Nr. 07951/ 24960\noder\nAndrea Riek : 0176349
 22268\n\n&nbsp\;
END:VEVENT
BEGIN:VTIMEZONE
TZID:Europe/Berlin
X-LIC-LOCATION:Europe/Berlin
BEGIN:DAYLIGHT
DTSTART:20260329T030000
TZOFFSETFROM:+0100
TZOFFSETTO:+0200
TZNAME:CEST
END:DAYLIGHT
END:VTIMEZONE
END:VCALENDAR