BEGIN:VCALENDAR
VERSION:2.0
PRODID:-//wp-events-plugin.com//5.99912//EN
TZID:Europe/Berlin
X-WR-TIMEZONE:Europe/Berlin
BEGIN:VEVENT
UID:0-821@crailsheim.albverein.eu
DTSTART;TZID=Europe/Berlin:20260509T133000
DTEND;TZID=Europe/Berlin:20260509T160000
DTSTAMP:20260420T095003Z
URL:https://crailsheim.albverein.eu/events/junge-familie-musik-machen-mit-
 naturinstrumenten/
SUMMARY:Junge Familie: Musik machen mit Naturinstrumenten
DESCRIPTION:\nDie Junge Familie lädt alle Kinder mit Eltern und/oder Groß
 eltern zu einer Wanderung an der Jagst ein. Wir treffen uns am Parkplatz W
 ollmershausen bei der Heinzenmühle.\nBei der Wanderung möchten wir etwas
  Material sammeln aus dem wir dann Musikinstrumente machen. Vielleicht kö
 nnen wir dann mit den Instrumenten am Ende ein Konzert geben.\n\nWeitere I
 nfos bei Corinna Just Tel.: 0174 62 83 231
END:VEVENT
BEGIN:VTIMEZONE
TZID:Europe/Berlin
X-LIC-LOCATION:Europe/Berlin
BEGIN:DAYLIGHT
DTSTART:20260329T030000
TZOFFSETFROM:+0100
TZOFFSETTO:+0200
TZNAME:CEST
END:DAYLIGHT
END:VTIMEZONE
END:VCALENDAR