BEGIN:VCALENDAR
VERSION:2.0
PRODID:-//wp-events-plugin.com//5.99912//EN
TZID:Europe/Berlin
X-WR-TIMEZONE:Europe/Berlin
BEGIN:VEVENT
UID:0-818@crailsheim.albverein.eu
DTSTART;TZID=Europe/Berlin:20260517T130000
DTEND;TZID=Europe/Berlin:20260517T180000
DTSTAMP:20260415T105638Z
URL:https://crailsheim.albverein.eu/events/literarische-wanderung-ab-mistl
 au/
SUMMARY:Literarische Wanderung ab Mistlau
DESCRIPTION:\nDie 8 km lange Wanderung führt uns nach einem Anstieg über 
 das Jagsttal zur Villa Schöneck mit einem schönen Ausblick auf Kirchberg
  und nach Hornberg. Über Kirchberg\, den Sophienberg und den Oggenauer St
 eg geht es dann zurück nach Mistlau\, wo wir auch einen Blick in die Kape
 lle werfen. Bei der Wanderung wird an einigen Stationen literarisches zum 
 Thema von den Wanderführern vorgetragen. Eine Schlusseinkehr im Gasthaus 
 zur Lindenau in Mistlau ist geplant.\n\nTreffpunkt um 13:00 Uhr am ZOB \no
 der um 13:20 in Mistlau am Parkplatz beim Quellhof.\n\nWanderführer: Gudr
 un Ohr\, Tel.: 0157 / 72488284\n               und Klaus Makain\, 
 Tel.: 07951 / 4723177
END:VEVENT
BEGIN:VTIMEZONE
TZID:Europe/Berlin
X-LIC-LOCATION:Europe/Berlin
BEGIN:DAYLIGHT
DTSTART:20260329T030000
TZOFFSETFROM:+0100
TZOFFSETTO:+0200
TZNAME:CEST
END:DAYLIGHT
END:VTIMEZONE
END:VCALENDAR