BEGIN:VCALENDAR
VERSION:2.0
PRODID:-//wp-events-plugin.com//5.99912//EN
TZID:Europe/Berlin
X-WR-TIMEZONE:Europe/Berlin
BEGIN:VEVENT
UID:0-817@crailsheim.albverein.eu
DTSTART;TZID=Europe/Berlin:20260503T130000
DTEND;TZID=Europe/Berlin:20260503T183000
DTSTAMP:20260412T154345Z
URL:https://crailsheim.albverein.eu/events/rund-um-vellberg-durchs-taubenl
 och/
SUMMARY:Rund um Vellberg durch’s Taubenloch
DESCRIPTION:\nWir starten am Burggraben in Vellberg\, dem Schildkrötenweg 
 entlang bis Eschenau.\nDann geht es durchs Taubenloch nach Buch-Ruppolden 
 der Bühler entlang bis Vellberg.\nEtwas Trittsicherheit sollte vorhanden 
 sein und gutes Schuhwerk.\nWanderstrecke ca. 11km\nTreffpunkt: 13 Uhr ZOB\
 nWanderführer: Brigitte und Willi Bratz  Tel.: 07951 / 24674\, Mobil: 01
 51 / 40029343
END:VEVENT
BEGIN:VTIMEZONE
TZID:Europe/Berlin
X-LIC-LOCATION:Europe/Berlin
BEGIN:DAYLIGHT
DTSTART:20260329T030000
TZOFFSETFROM:+0100
TZOFFSETTO:+0200
TZNAME:CEST
END:DAYLIGHT
END:VTIMEZONE
END:VCALENDAR