BEGIN:VCALENDAR
VERSION:2.0
PRODID:-//wp-events-plugin.com//5.99912//EN
TZID:Europe/Berlin
X-WR-TIMEZONE:Europe/Berlin
BEGIN:VEVENT
UID:0-819@crailsheim.albverein.eu
DTSTART;TZID=Europe/Berlin:20260531T094000
DTEND;TZID=Europe/Berlin:20260531T181500
DTSTAMP:20260415T081417Z
URL:https://crailsheim.albverein.eu/events/vom-kloster-lorch-in-die-schelm
 enklinge/
SUMMARY:Vom Kloster Lorch in die Schelmenklinge
DESCRIPTION:\nTreffpunkt um 9:40 Uhr am Gleis 4 Abfahrt: 9:52 Uhr nach Lorc
 h.\nDie 13 km lange Wanderung führt uns zum Kloster Lorch und weiter zur 
 Schelmenklinge. Anschließend Aufstieg über die Himmelsleiter. Auf abente
 uerlichen Wegen erreichen wir die „Schillergrotte“ und später den „
 Hohlen Stein“. Der Rückweg zum Kloster verläuft auf angenehmen Wegen. 
 Dort schauen wir uns die Klosteranlage und das Stauferrundbild an\, und zu
 m Abschluss können wir uns bei Kaffee und Kuchen im Klostergarten erholen
 .\nRückfahrt 16:53 Uhr Ankunft um 18:12 Uhr in Crailsheim.\nEs ist keine 
 Einkehr geplant. Für die 350 Höhenmeter ist eine gute Kondition erforder
 lich\, Stöcke sind hilfreich. Rucksackvesper nicht vergessen.\nDie Teilne
 hmerzahl ist begrenzt. Infos und Anmeldung bis 30. Mai\nbei M. Fürbringer
  07957/8255 oder 0176 52841066\nZugfahrt und Eintritt fürs Kloster betrag
 en 17 Euro
END:VEVENT
BEGIN:VTIMEZONE
TZID:Europe/Berlin
X-LIC-LOCATION:Europe/Berlin
BEGIN:DAYLIGHT
DTSTART:20260329T030000
TZOFFSETFROM:+0100
TZOFFSETTO:+0200
TZNAME:CEST
END:DAYLIGHT
END:VTIMEZONE
END:VCALENDAR